BEGIN:VCALENDAR
VERSION:2.0
PRODID:-//Concello de Pontedeume - ECPv6.15.8//NONSGML v1.0//EN
CALSCALE:GREGORIAN
METHOD:PUBLISH
X-ORIGINAL-URL:https://www.pontedeume.gal
X-WR-CALDESC:Events for Concello de Pontedeume
REFRESH-INTERVAL;VALUE=DURATION:PT1H
X-Robots-Tag:noindex
X-PUBLISHED-TTL:PT1H
BEGIN:VTIMEZONE
TZID:Europe/Madrid
BEGIN:DAYLIGHT
TZOFFSETFROM:+0100
TZOFFSETTO:+0200
TZNAME:CEST
DTSTART:20250330T010000
END:DAYLIGHT
BEGIN:STANDARD
TZOFFSETFROM:+0200
TZOFFSETTO:+0100
TZNAME:CET
DTSTART:20251026T010000
END:STANDARD
BEGIN:DAYLIGHT
TZOFFSETFROM:+0100
TZOFFSETTO:+0200
TZNAME:CEST
DTSTART:20260329T010000
END:DAYLIGHT
BEGIN:STANDARD
TZOFFSETFROM:+0200
TZOFFSETTO:+0100
TZNAME:CET
DTSTART:20261025T010000
END:STANDARD
BEGIN:DAYLIGHT
TZOFFSETFROM:+0100
TZOFFSETTO:+0200
TZNAME:CEST
DTSTART:20270328T010000
END:DAYLIGHT
BEGIN:STANDARD
TZOFFSETFROM:+0200
TZOFFSETTO:+0100
TZNAME:CET
DTSTART:20271031T010000
END:STANDARD
END:VTIMEZONE
BEGIN:VEVENT
DTSTART;VALUE=DATE:20260411
DTEND;VALUE=DATE:20260412
DTSTAMP:20260419T141345
CREATED:20260407T091857Z
LAST-MODIFIED:20260407T092333Z
UID:60871-1775865600-1775951999@www.pontedeume.gal
SUMMARY:Obradoiro de música tradicional pandeireta - UV Olmo
DESCRIPTION:
URL:https://www.pontedeume.gal/evento/obradoiro-de-musica-tradicional-pandeireta/
CATEGORIES:Música,Obradoiro
ATTACH;FMTTYPE=image/jpeg:https://www.pontedeume.gal/wp-content/uploads/2026/04/Obradoiro-pandereta.jpeg
END:VEVENT
BEGIN:VEVENT
DTSTART;TZID=Europe/Madrid:20260411T110000
DTEND;TZID=Europe/Madrid:20260411T140000
DTSTAMP:20260419T141345
CREATED:20260410T102315Z
LAST-MODIFIED:20260410T102315Z
UID:60988-1775905200-1775916000@www.pontedeume.gal
SUMMARY:Mesas de inscrición para a andaina da Asociacón Española Contra o Cancro
DESCRIPTION:Mesas de inscrición diante do Concello de Pontedeume para a andaina do vindeiro domingo 19 de abril\, organizada pola Xunta Local de Pontedeume da Asociación Española Contra o Cancro.
URL:https://www.pontedeume.gal/evento/mesas-de-inscricion-para-a-andaina-da-asociacon-espanola-contra-o-cancro/
LOCATION:Praza Real\, Praza Real\, Pontedeume\, 15600\, España
CATEGORIES:Comunidade,Outros
ATTACH;FMTTYPE=image/jpeg:https://www.pontedeume.gal/wp-content/uploads/2026/04/Mesa-AECC.jpeg
END:VEVENT
BEGIN:VEVENT
DTSTART;TZID=Europe/Madrid:20260411T113000
DTEND;TZID=Europe/Madrid:20260411T130000
DTSTAMP:20260419T141345
CREATED:20260410T103126Z
LAST-MODIFIED:20260410T103126Z
UID:60998-1775907000-1775912400@www.pontedeume.gal
SUMMARY:Xornada portas abertas Escola Infantil Municipal Chalé Rosa
DESCRIPTION:
URL:https://www.pontedeume.gal/evento/xornada-portas-abertas-escola-infantil-municipal-chale-rosa/
LOCATION:Escola Infantil Municipal Chalé Rosa
CATEGORIES:Servizos Sociais
ATTACH;FMTTYPE=image/jpeg:https://www.pontedeume.gal/wp-content/uploads/2026/04/Chale-Rosa.jpeg
END:VEVENT
BEGIN:VEVENT
DTSTART;TZID=Europe/Madrid:20260411T203000
DTEND;TZID=Europe/Madrid:20260411T220000
DTSTAMP:20260419T141345
CREATED:20260410T103523Z
LAST-MODIFIED:20260410T103523Z
UID:61005-1775939400-1775944800@www.pontedeume.gal
SUMMARY:Concertos música sacra
DESCRIPTION:
URL:https://www.pontedeume.gal/evento/concertos-musica-sacra/
LOCATION:Igrexa de Santiago\, Rúa Igrexa\, Pontedeume\, A Coruña\, 15600\, Spain
CATEGORIES:Actuacións,Música
ATTACH;FMTTYPE=image/jpeg:https://www.pontedeume.gal/wp-content/uploads/2026/04/Concerto-musica-sacra.jpeg
END:VEVENT
END:VCALENDAR