BEGIN:VCALENDAR
VERSION:2.0
PRODID:-//Concello de Pontedeume - ECPv6.15.8//NONSGML v1.0//EN
CALSCALE:GREGORIAN
METHOD:PUBLISH
X-WR-CALNAME:Concello de Pontedeume
X-ORIGINAL-URL:https://www.pontedeume.gal
X-WR-CALDESC:Events for Concello de Pontedeume
REFRESH-INTERVAL;VALUE=DURATION:PT1H
X-Robots-Tag:noindex
X-PUBLISHED-TTL:PT1H
BEGIN:VTIMEZONE
TZID:Europe/Madrid
BEGIN:DAYLIGHT
TZOFFSETFROM:+0100
TZOFFSETTO:+0200
TZNAME:CEST
DTSTART:20250330T010000
END:DAYLIGHT
BEGIN:STANDARD
TZOFFSETFROM:+0200
TZOFFSETTO:+0100
TZNAME:CET
DTSTART:20251026T010000
END:STANDARD
BEGIN:DAYLIGHT
TZOFFSETFROM:+0100
TZOFFSETTO:+0200
TZNAME:CEST
DTSTART:20260329T010000
END:DAYLIGHT
BEGIN:STANDARD
TZOFFSETFROM:+0200
TZOFFSETTO:+0100
TZNAME:CET
DTSTART:20261025T010000
END:STANDARD
BEGIN:DAYLIGHT
TZOFFSETFROM:+0100
TZOFFSETTO:+0200
TZNAME:CEST
DTSTART:20270328T010000
END:DAYLIGHT
BEGIN:STANDARD
TZOFFSETFROM:+0200
TZOFFSETTO:+0100
TZNAME:CET
DTSTART:20271031T010000
END:STANDARD
END:VTIMEZONE
BEGIN:VEVENT
DTSTART;TZID=Europe/Madrid:20260308T120000
DTEND;TZID=Europe/Madrid:20260308T130000
DTSTAMP:20260419T142603
CREATED:20260303T170350Z
LAST-MODIFIED:20260303T170350Z
UID:60057-1772971200-1772974800@www.pontedeume.gal
SUMMARY:8M: Día Internacional da Muller
DESCRIPTION:
URL:https://www.pontedeume.gal/evento/8m-dia-internacional-da-muller-2/
LOCATION:Praza Real\, Praza Real\, Pontedeume\, 15600\, España
CATEGORIES:Comunidade,Igualdade
ATTACH;FMTTYPE=image/jpeg:https://www.pontedeume.gal/wp-content/uploads/2026/03/8M.jpeg
ORGANIZER;CN="Concello de Pontedeume":MAILTO:correo@pontedeume.gal
END:VEVENT
END:VCALENDAR