BEGIN:VCALENDAR
VERSION:2.0
PRODID:-//Concello de Pontedeume - ECPv6.15.8//NONSGML v1.0//EN
CALSCALE:GREGORIAN
METHOD:PUBLISH
X-WR-CALNAME:Concello de Pontedeume
X-ORIGINAL-URL:https://www.pontedeume.gal/es/
X-WR-CALDESC:Eventos para Concello de Pontedeume
REFRESH-INTERVAL;VALUE=DURATION:PT1H
X-Robots-Tag:noindex
X-PUBLISHED-TTL:PT1H
BEGIN:VTIMEZONE
TZID:Europe/Madrid
BEGIN:DAYLIGHT
TZOFFSETFROM:+0100
TZOFFSETTO:+0200
TZNAME:CEST
DTSTART:20250330T010000
END:DAYLIGHT
BEGIN:STANDARD
TZOFFSETFROM:+0200
TZOFFSETTO:+0100
TZNAME:CET
DTSTART:20251026T010000
END:STANDARD
BEGIN:DAYLIGHT
TZOFFSETFROM:+0100
TZOFFSETTO:+0200
TZNAME:CEST
DTSTART:20260329T010000
END:DAYLIGHT
BEGIN:STANDARD
TZOFFSETFROM:+0200
TZOFFSETTO:+0100
TZNAME:CET
DTSTART:20261025T010000
END:STANDARD
BEGIN:DAYLIGHT
TZOFFSETFROM:+0100
TZOFFSETTO:+0200
TZNAME:CEST
DTSTART:20270328T010000
END:DAYLIGHT
BEGIN:STANDARD
TZOFFSETFROM:+0200
TZOFFSETTO:+0100
TZNAME:CET
DTSTART:20271031T010000
END:STANDARD
END:VTIMEZONE
BEGIN:VEVENT
DTSTART;VALUE=DATE:20260411
DTEND;VALUE=DATE:20260412
DTSTAMP:20260420T014139
CREATED:20260407T091857Z
LAST-MODIFIED:20260407T092350Z
UID:60875-1775865600-1775951999@www.pontedeume.gal
SUMMARY:Taller de música tradicional pandereta - UV Olmo
DESCRIPTION:
URL:https://www.pontedeume.gal/es/evento/taller-de-musica-tradicional-pandereta/
CATEGORIES:Música,Talleres
ATTACH;FMTTYPE=image/jpeg:https://www.pontedeume.gal/wp-content/uploads/2026/04/Obradoiro-pandereta.jpeg
END:VEVENT
BEGIN:VEVENT
DTSTART;TZID=Europe/Madrid:20260411T110000
DTEND;TZID=Europe/Madrid:20260411T140000
DTSTAMP:20260420T014139
CREATED:20260410T102315Z
LAST-MODIFIED:20260410T102440Z
UID:60992-1775905200-1775916000@www.pontedeume.gal
SUMMARY:Mesas de inscripción para la andaina de la Asociacón Española Contra el Cáncer
DESCRIPTION:Mesas de inscripción delante del Ayuntamiento de Pontedeume para la andaina del próximo domingo 19 de abril\, organizada por la Junta Local de Pontedeume de la Asociación Española Contra el Cáncer.
URL:https://www.pontedeume.gal/es/evento/mesas-de-inscripcion-para-la-andaina-de-la-asociacon-espanola-contra-el-cancer/
LOCATION:Plaza Real\, Plaza Real\, Pontedeume\, 15600\, España
CATEGORIES:Comunidad,Otros
ATTACH;FMTTYPE=image/jpeg:https://www.pontedeume.gal/wp-content/uploads/2026/04/Mesa-AECC.jpeg
END:VEVENT
BEGIN:VEVENT
DTSTART;TZID=Europe/Madrid:20260411T113000
DTEND;TZID=Europe/Madrid:20260411T130000
DTSTAMP:20260420T014139
CREATED:20260410T103126Z
LAST-MODIFIED:20260410T103235Z
UID:61003-1775907000-1775912400@www.pontedeume.gal
SUMMARY:Jornada puertas abiertas Escuela Infantil Municipal Chalé Rosa
DESCRIPTION:
URL:https://www.pontedeume.gal/es/evento/jornada-puertas-abiertas-escuela-infantil-municipal-chale-rosa/
LOCATION:Escola Infantil Municipal Chalé Rosa
CATEGORIES:Servicios Sociales
ATTACH;FMTTYPE=image/jpeg:https://www.pontedeume.gal/wp-content/uploads/2026/04/Chale-Rosa.jpeg
END:VEVENT
BEGIN:VEVENT
DTSTART;TZID=Europe/Madrid:20260411T203000
DTEND;TZID=Europe/Madrid:20260411T220000
DTSTAMP:20260420T014139
CREATED:20260410T103523Z
LAST-MODIFIED:20260410T103622Z
UID:61009-1775939400-1775944800@www.pontedeume.gal
SUMMARY:Conciertos música sagrada
DESCRIPTION:
URL:https://www.pontedeume.gal/es/evento/conciertos-musica-sagrada/
LOCATION:Igrexa de Santiago\, Rúa Igrexa\, Pontedeume\, A Coruña\, 15600\, Spain
CATEGORIES:Actuaciones,Música
ATTACH;FMTTYPE=image/jpeg:https://www.pontedeume.gal/wp-content/uploads/2026/04/Concerto-musica-sacra.jpeg
END:VEVENT
END:VCALENDAR