BEGIN:VCALENDAR
VERSION:2.0
PRODID:-//Concello de Pontedeume - ECPv6.15.8//NONSGML v1.0//EN
CALSCALE:GREGORIAN
METHOD:PUBLISH
X-ORIGINAL-URL:https://www.pontedeume.gal/es/
X-WR-CALDESC:Eventos para Concello de Pontedeume
REFRESH-INTERVAL;VALUE=DURATION:PT1H
X-Robots-Tag:noindex
X-PUBLISHED-TTL:PT1H
BEGIN:VTIMEZONE
TZID:Europe/Madrid
BEGIN:DAYLIGHT
TZOFFSETFROM:+0100
TZOFFSETTO:+0200
TZNAME:CEST
DTSTART:20250330T010000
END:DAYLIGHT
BEGIN:STANDARD
TZOFFSETFROM:+0200
TZOFFSETTO:+0100
TZNAME:CET
DTSTART:20251026T010000
END:STANDARD
BEGIN:DAYLIGHT
TZOFFSETFROM:+0100
TZOFFSETTO:+0200
TZNAME:CEST
DTSTART:20260329T010000
END:DAYLIGHT
BEGIN:STANDARD
TZOFFSETFROM:+0200
TZOFFSETTO:+0100
TZNAME:CET
DTSTART:20261025T010000
END:STANDARD
BEGIN:DAYLIGHT
TZOFFSETFROM:+0100
TZOFFSETTO:+0200
TZNAME:CEST
DTSTART:20270328T010000
END:DAYLIGHT
BEGIN:STANDARD
TZOFFSETFROM:+0200
TZOFFSETTO:+0100
TZNAME:CET
DTSTART:20271031T010000
END:STANDARD
END:VTIMEZONE
BEGIN:VEVENT
DTSTART;TZID=Europe/Madrid:20260329T173000
DTEND;TZID=Europe/Madrid:20260329T183000
DTSTAMP:20260419T180746
CREATED:20260305T132441Z
LAST-MODIFIED:20260305T132542Z
UID:60156-1774805400-1774809000@www.pontedeume.gal
SUMMARY:Visitas guiadas al cementerio
DESCRIPTION:
URL:https://www.pontedeume.gal/es/evento/visitas-guiadas-al-cementerio-3/
LOCATION:Cemiterio Municipal
CATEGORIES:Turismo
ATTACH;FMTTYPE=image/jpeg:https://www.pontedeume.gal/wp-content/uploads/2026/03/VISITAS-GUIADAS-CEMITERIO_-Semana-Santa-2026-1_page-0001.jpg
ORGANIZER;CN="Ayuntamiento de Pontedeume":MAILTO:correo@pontedeume.gal
END:VEVENT
END:VCALENDAR